BEGIN:VCALENDAR
VERSION:2.0
PRODID:-//Tukios.com/
BEGIN:VEVENT
UID:2a07fcd1-36e6-4304-8d80-b25288ad153d@www.jaybsmith.com
DTSTAMP:20260422T014245Z
DTSTART:20260425T160000Z
DTEND:20260425T200000Z
SUMMARY:Visitation
DESCRIPTION:
URL:https://www.jaybsmith.com/obituaries/thomas-newport
LOCATION:Jay B. Smith Maplewood Chapel 7456 Manchester Ave  Maplewood MO 
	63143
GEO:38.6119467;-90.3215963
END:VEVENT
END:VCALENDAR