BEGIN:VCALENDAR
VERSION:2.0
PRODID:-//Tukios.com/
BEGIN:VEVENT
UID:3845bdf8-9322-4bb1-89fd-ad5cca002960@www.jaybsmith.com
DTSTAMP:20260424T192104Z
DTSTART:20260503T203000Z
DTEND:20260503T213000Z
SUMMARY:Celebration of Life 
DESCRIPTION:
URL:https://www.jaybsmith.com/obituaries/richard-hendrix
LOCATION:Calvary Fellowship Church 1811 Smizer Station Rd   MO 63026
GEO:38.5297804;-90.4910902
END:VEVENT
END:VCALENDAR