BEGIN:VCALENDAR
VERSION:2.0
PRODID:-//Tukios.com/
BEGIN:VEVENT
UID:eab1acf2-4fa0-46ca-befc-6105427c2315@www.jaybsmith.com
DTSTAMP:20260424T005749Z
DTSTART:20260425T140000Z
DTEND:20260425T150000Z
SUMMARY:Funeral Service
DESCRIPTION:
URL:https://www.jaybsmith.com/obituaries/opal-morris
LOCATION:St Basil the Great Orthodox Church 205 Highland Ave  Des Peres 
	MO 63122
GEO:38.5795512;-90.4496279
END:VEVENT
END:VCALENDAR