BEGIN:VCALENDAR
VERSION:2.0
PRODID:-//Tukios.com/
BEGIN:VEVENT
UID:700fad1f-f1ca-4bc1-9e3c-aefe3a0d9f83@www.jaybsmith.com
DTSTAMP:20260424T005749Z
DTSTART:20260425T160000Z
DTEND:20260425T163000Z
SUMMARY:Interment
DESCRIPTION:
URL:https://www.jaybsmith.com/obituaries/opal-morris
LOCATION:Midlawn Memorial Gardens 7280 Highway 47  Union MO 63084
GEO:38.4181117;-90.9860936
END:VEVENT
END:VCALENDAR