BEGIN:VCALENDAR
VERSION:2.0
PRODID:-//Tukios.com/
BEGIN:VEVENT
UID:fa534d87-d5f7-4495-b32a-c7c2465281a4@www.jaybsmith.com
DTSTAMP:20260423T053656Z
DTSTART:20260427T210000Z
DTEND:20260428T000000Z
SUMMARY:Visitation
DESCRIPTION:
URL:https://www.jaybsmith.com/obituaries/kaye-sansoni
LOCATION:Jay B. Smith Funeral Home Fenton 777 Oakwood Dr.  Fenton MO 
	63026
GEO:38.5208422;-90.4592217
END:VEVENT
END:VCALENDAR