BEGIN:VCALENDAR
VERSION:2.0
PRODID:-//Tukios.com/
BEGIN:VEVENT
UID:f851e397-58fa-4a44-afcb-1170373b439b@www.jaybsmith.com
DTSTAMP:20260423T051846Z
DTSTART:20260428T000000Z
DTEND:20260428T010000Z
SUMMARY:Funeral Service
DESCRIPTION:
URL:https://www.jaybsmith.com/obituaries/kaye-sansoni
LOCATION:Jay B. Smith Funeral Home Fenton 777 Oakwood Dr.  Fenton MO 
	63026
GEO:38.5208422;-90.4592217
END:VEVENT
END:VCALENDAR