BEGIN:VCALENDAR
VERSION:2.0
PRODID:-//Tukios.com/
BEGIN:VEVENT
UID:b4333b2c-ba59-4890-8b57-5e3ee253df41@www.jaybsmith.com
DTSTAMP:20260422T024606Z
DTSTART:20260426T210000Z
DTEND:20260427T000000Z
SUMMARY:Visitation
DESCRIPTION:
URL:https://www.jaybsmith.com/obituaries/james-lucas
LOCATION:Jay B. Smith Funeral Home Fenton 777 Oakwood Dr.  Fenton MO 
	63026
GEO:38.5208422;-90.4592217
END:VEVENT
END:VCALENDAR