BEGIN:VCALENDAR
VERSION:2.0
PRODID:-//Tukios.com/
BEGIN:VEVENT
UID:4f72d161-bcc1-4828-b3a2-7a88d9e91151@www.jaybsmith.com
DTSTAMP:20260422T023203Z
DTSTART:20260427T150000Z
DTEND:20260427T154500Z
SUMMARY:Funeral Service
DESCRIPTION:
URL:https://www.jaybsmith.com/obituaries/james-lucas
LOCATION:Jay B. Smith Funeral Home Fenton 777 Oakwood Dr.  Fenton MO 
	63026
GEO:38.5208422;-90.4592217
END:VEVENT
END:VCALENDAR