BEGIN:VCALENDAR
VERSION:2.0
PRODID:-//Tukios.com/
BEGIN:VEVENT
UID:1e471301-b111-4645-af07-5ad8fb43278a@www.jaybsmith.com
DTSTAMP:20260422T022512Z
DTSTART:20260427T163000Z
DTEND:20260427T170000Z
SUMMARY:Interment
DESCRIPTION:
URL:https://www.jaybsmith.com/obituaries/james-lucas
LOCATION:Jefferson Barracks National Cemetery 2900 Sheridan  Jefferson 
	Barracks MO 63125
GEO:38.5028308;-90.2803928
END:VEVENT
END:VCALENDAR