BEGIN:VCALENDAR
VERSION:2.0
PRODID:-//Tukios.com/
BEGIN:VEVENT
UID:e18a29a9-9275-488c-8b01-b6e9201cb98e@www.jaybsmith.com
DTSTAMP:20260424T234053Z
DTSTART:20260509T150000Z
DTEND:20260509T160000Z
SUMMARY:Memorial Gathering
DESCRIPTION:
URL:https://www.jaybsmith.com/obituaries/debby-sartors
LOCATION:Jay B. Smith Funeral Home Fenton 777 Oakwood Dr.  Fenton MO 
	63026
GEO:38.5208422;-90.4592217
END:VEVENT
END:VCALENDAR