BEGIN:VCALENDAR
VERSION:2.0
PRODID:-//Tukios.com/
BEGIN:VEVENT
UID:c72fe5fc-e2f5-4e1f-9fc0-5abec3673af4@www.jaybsmith.com
DTSTAMP:20260424T234512Z
DTSTART:20260509T160000Z
DTEND:20260509T170000Z
SUMMARY:Celebration of Life 
DESCRIPTION:
URL:https://www.jaybsmith.com/obituaries/debby-sartors
LOCATION:Jay B. Smith Funeral Home Fenton 777 Oakwood Dr.  Fenton MO 
	63026
GEO:38.5208422;-90.4592217
END:VEVENT
END:VCALENDAR